Workbook

Sheet Alternativas regulatorias
A1: Propuesta Regulatoria
A2: Propuesta regulatoria publicada en septiembre 2026 e insumos
A5: ANNO | B5: MES | C5: PERIODO | D5: GRUPO | E5: ENVÍOS | F5: Alt 1 | G5: Alt 2 | H5: Alt 3 | I5: Alt 4
A6: 2027 | B6: 1 | C6: =_xlfn.CONCAT(A6,"-",B6) -> 2027-1 | D6: Local - Hasta 1 Kg | E6: 665204 | F6: =+$E6*'Tarifas base'!B$11 -> 7150943000 | G6: =+$E6*'Tarifas base'!C$11 -> 5.5999785e+09 | H6: =+$E6*'Tarifas base'!D$11 -> 4.5787225e+09 | I6: =+$E6*'Tarifas base'!E$11 -> 4.6183958e+09
A7: 2027 | B7: 2 | C7: =_xlfn.CONCAT(A7,"-",B7) -> 2027-2 | D7: Local - Hasta 1 Kg | E7: 665198 | F7: =+$E7*'Tarifas base'!$B$11 -> 7150878500 | G7: =+$E7*'Tarifas base'!C$11 -> 5.599928e+09 | H7: =+$E7*'Tarifas base'!D$11 -> 4.5786812e+09 | I7: =+$E7*'Tarifas base'!E$11 -> 4.6183541e+09
A8: 2027 | B8: 3 | C8: =_xlfn.CONCAT(A8,"-",B8) -> 2027-3 | D8: Local - Hasta 1 Kg | E8: 665196 | F8: =+$E8*'Tarifas base'!$B$11 -> 7150857000 | G8: =+$E8*'Tarifas base'!C$11 -> 5.5999112e+09 | H8: =+$E8*'Tarifas base'!D$11 -> 4.5786674e+09 | I8: =+$E8*'Tarifas base'!E$11 -> 4.6183402e+09
A9: 2027 | B9: 4 | C9: =_xlfn.CONCAT(A9,"-",B9) -> 2027-4 | D9: Local - Hasta 1 Kg | E9: 665195 | F9: =+$E9*'Tarifas base'!$B$11 -> 7150846250 | G9: =+$E9*'Tarifas base'!C$11 -> 5.5999028e+09 | H9: =+$E9*'Tarifas base'!D$11 -> 4.5786605e+09 | I9: =+$E9*'Tarifas base'!E$11 -> 4.6183333e+09
A10: 2027 | B10: 5 | C10: =_xlfn.CONCAT(A10,"-",B10) -> 2027-5 | D10: Local - Hasta 1 Kg | E10: 665195 | F10: =+$E10*'Tarifas base'!$B$11 -> 7150846250 | G10: =+$E10*'Tarifas base'!C$11 -> 5.5999028e+09 | H10: =+$E10*'Tarifas base'!D$11 -> 4.5786605e+09 | I10: =+$E10*'Tarifas base'!E$11 -> 4.6183333e+09
A11: 2027 | B11: 6 | C11: =_xlfn.CONCAT(A11,"-",B11) -> 2027-6 | D11: Local - Hasta 1 Kg | E11: 665195 | F11: =+$E11*'Tarifas base'!$B$11 -> 7150846250 | G11: =+$E11*'Tarifas base'!C$11 -> 5.5999028e+09 | H11: =+$E11*'Tarifas base'!D$11 -> 4.5786605e+09 | I11: =+$E11*'Tarifas base'!E$11 -> 4.6183333e+09
A12: 2027 | B12: 7 | C12: =_xlfn.CONCAT(A12,"-",B12) -> 2027-7 | D12: Local - Hasta 1 Kg | E12: 665195 | F12: =+$E12*'Tarifas base'!$B$11 -> 7150846250 | G12: =+$E12*'Tarifas base'!C$11 -> 5.5999028e+09 | H12: =+$E12*'Tarifas base'!D$11 -> 4.5786605e+09 | I12: =+$E12*'Tarifas base'!E$11 -> 4.6183333e+09
A13: 2027 | B13: 8 | C13: =_xlfn.CONCAT(A13,"-",B13) -> 2027-8 | D13: Local - Hasta 1 Kg | E13: 665195 | F13: =+$E13*'Tarifas base'!$B$11 -> 7150846250 | G13: =+$E13*'Tarifas base'!C$11 -> 5.5999028e+09 | H13: =+$E13*'Tarifas base'!D$11 -> 4.5786605e+09 | I13: =+$E13*'Tarifas base'!E$11 -> 4.6183333e+09
A14: 2027 | B14: 9 | C14: =_xlfn.CONCAT(A14,"-",B14) -> 2027-9 | D14: Local - Hasta 1 Kg | E14: 665195 | F14: =+$E14*'Tarifas base'!$B$11 -> 7150846250 | G14: =+$E14*'Tarifas base'!C$11 -> 5.5999028e+09 | H14: =+$E14*'Tarifas base'!D$11 -> 4.5786605e+09 | I14: =+$E14*'Tarifas base'!E$11 -> 4.6183333e+09
A15: 2027 | B15: 10 | C15: =_xlfn.CONCAT(A15,"-",B15) -> 2027-10 | D15: Local - Hasta 1 Kg | E15: 665195 | F15: =+$E15*'Tarifas base'!$B$11 -> 7150846250 | G15: =+$E15*'Tarifas base'!C$11 -> 5.5999028e+09 | H15: =+$E15*'Tarifas base'!D$11 -> 4.5786605e+09 | I15: =+$E15*'Tarifas base'!E$11 -> 4.6183333e+09
A16: 2027 | B16: 11 | C16: =_xlfn.CONCAT(A16,"-",B16) -> 2027-11 | D16: Local - Hasta 1 Kg | E16: 665195 | F16: =+$E16*'Tarifas base'!$B$11 -> 7150846250 | G16: =+$E16*'Tarifas base'!C$11 -> 5.5999028e+09 | H16: =+$E16*'Tarifas base'!D$11 -> 4.5786605e+09 | I16: =+$E16*'Tarifas base'!E$11 -> 4.6183333e+09
A17: 2027 | B17: 12 | C17: =_xlfn.CONCAT(A17,"-",B17) -> 2027-12 | D17: Local - Hasta 1 Kg | E17: 665195 | F17: =+$E17*'Tarifas base'!$B$11 -> 7150846250 | G17: =+$E17*'Tarifas base'!C$11 -> 5.5999028e+09 | H17: =+$E17*'Tarifas base'!D$11 -> 4.5786605e+09 | I17: =+$E17*'Tarifas base'!E$11 -> 4.6183333e+09
A18: 2028 | B18: 1 | C18: =_xlfn.CONCAT(A18,"-",B18) -> 2028-1 | D18: Local - Hasta 1 Kg | E18: 665195 | F18: =+$E18*'Tarifas base'!B$18 -> 7150846250 | G18: =+$E18*'Tarifas base'!C$18 -> 5.8780313e+09 | H18: =+$E18*'Tarifas base'!D$18 -> 4.8060673e+09 | I18: =+$E18*'Tarifas base'!E$18 -> 4.8904532e+09
A19: 2028 | B19: 2 | C19: =_xlfn.CONCAT(A19,"-",B19) -> 2028-2 | D19: Local - Hasta 1 Kg | E19: 665195 | F19: =+$E19*'Tarifas base'!B$18 -> 7150846250 | G19: =+$E19*'Tarifas base'!C$18 -> 5.8780313e+09 | H19: =+$E19*'Tarifas base'!D$18 -> 4.8060673e+09 | I19: =+$E19*'Tarifas base'!E$18 -> 4.8904532e+09
A20: 2028 | B20: 3 | C20: =_xlfn.CONCAT(A20,"-",B20) -> 2028-3 | D20: Local - Hasta 1 Kg | E20: 665195 | F20: =+$E20*'Tarifas base'!B$18 -> 7150846250 | G20: =+$E20*'Tarifas base'!C$18 -> 5.8780313e+09 | H20: =+$E20*'Tarifas base'!D$18 -> 4.8060673e+09 | I20: =+$E20*'Tarifas base'!E$18 -> 4.8904532e+09
A21: 2027 | B21: 1 | C21: =_xlfn.CONCAT(A21,"-",B21) -> 2027-1 | D21: Local - Mayor a 1 Kg | E21: 260 | F21: =+$E21*'Tarifas base'!B$12 -> 4264000 | G21: =+$E21*'Tarifas base'!C$12 -> 3013661.1 | H21: =+$E21*'Tarifas base'!D$12 -> 2530138.8 | I21: =+$E21*'Tarifas base'!E$12 -> 2552061.8
A22: 2027 | B22: 2 | C22: =_xlfn.CONCAT(A22,"-",B22) -> 2027-2 | D22: Local - Mayor a 1 Kg | E22: 285 | F22: =+$E22*'Tarifas base'!B$12 -> 4674000 | G22: =+$E22*'Tarifas base'!C$12 -> 3303436.2 | H22: =+$E22*'Tarifas base'!D$12 -> 2773421.4 | I22: =+$E22*'Tarifas base'!E$12 -> 2797452.3
A23: 2027 | B23: 3 | C23: =_xlfn.CONCAT(A23,"-",B23) -> 2027-3 | D23: Local - Mayor a 1 Kg | E23: 310 | F23: =+$E23*'Tarifas base'!B$12 -> 5084000 | G23: =+$E23*'Tarifas base'!C$12 -> 3593211.3 | H23: =+$E23*'Tarifas base'!D$12 -> 3016704 | I23: =+$E23*'Tarifas base'!E$12 -> 3042842.9
A24: 2027 | B24: 4 | C24: =_xlfn.CONCAT(A24,"-",B24) -> 2027-4 | D24: Local - Mayor a 1 Kg | E24: 339 | F24: =+$E24*'Tarifas base'!B$12 -> 5559600 | G24: =+$E24*'Tarifas base'!C$12 -> 3929350.4 | H24: =+$E24*'Tarifas base'!D$12 -> 3298911.8 | I24: =+$E24*'Tarifas base'!E$12 -> 3327495.9
A25: 2027 | B25: 5 | C25: =_xlfn.CONCAT(A25,"-",B25) -> 2027-5 | D25: Local - Mayor a 1 Kg | E25: 371 | F25: =+$E25*'Tarifas base'!B$12 -> 6084400 | G25: =+$E25*'Tarifas base'!C$12 -> 4300262.5 | H25: =+$E25*'Tarifas base'!D$12 -> 3610313.5 | I25: =+$E25*'Tarifas base'!E$12 -> 3641595.8
A26: 2027 | B26: 6 | C26: =_xlfn.CONCAT(A26,"-",B26) -> 2027-6 | D26: Local - Mayor a 1 Kg | E26: 405 | F26: =+$E26*'Tarifas base'!B$12 -> 6642000 | G26: =+$E26*'Tarifas base'!C$12 -> 4694356.7 | H26: =+$E26*'Tarifas base'!D$12 -> 3941177.8 | I26: =+$E26*'Tarifas base'!E$12 -> 3975327
A27: 2027 | B27: 7 | C27: =_xlfn.CONCAT(A27,"-",B27) -> 2027-7 | D27: Local - Mayor a 1 Kg | E27: 443 | F27: =+$E27*'Tarifas base'!B$12 -> 7265200 | G27: =+$E27*'Tarifas base'!C$12 -> 5134814.8 | H27: =+$E27*'Tarifas base'!D$12 -> 4310967.3 | I27: =+$E27*'Tarifas base'!E$12 -> 4348320.6
A28: 2027 | B28: 8 | C28: =_xlfn.CONCAT(A28,"-",B28) -> 2027-8 | D28: Local - Mayor a 1 Kg | E28: 484 | F28: =+$E28*'Tarifas base'!B$12 -> 7937600 | G28: =+$E28*'Tarifas base'!C$12 -> 5610046 | H28: =+$E28*'Tarifas base'!D$12 -> 4709950.7 | I28: =+$E28*'Tarifas base'!E$12 -> 4750761.1
A29: 2027 | B29: 9 | C29: =_xlfn.CONCAT(A29,"-",B29) -> 2027-9 | D29: Local - Mayor a 1 Kg | E29: 530 | F29: =+$E29*'Tarifas base'!B$12 -> 8692000 | G29: =+$E29*'Tarifas base'!C$12 -> 6143232.2 | H29: =+$E29*'Tarifas base'!D$12 -> 5157590.7 | I29: =+$E29*'Tarifas base'!E$12 -> 5202279.7
A30: 2027 | B30: 10 | C30: =_xlfn.CONCAT(A30,"-",B30) -> 2027-10 | D30: Local - Mayor a 1 Kg | E30: 579 | F30: =+$E30*'Tarifas base'!B$12 -> 9495600 | G30: =+$E30*'Tarifas base'!C$12 -> 6711191.4 | H30: =+$E30*'Tarifas base'!D$12 -> 5634424.5 | I30: =+$E30*'Tarifas base'!E$12 -> 5683245.2
A31: 2027 | B31: 11 | C31: =_xlfn.CONCAT(A31,"-",B31) -> 2027-11 | D31: Local - Mayor a 1 Kg | E31: 633 | F31: =+$E31*'Tarifas base'!B$12 -> 10381200 | G31: =+$E31*'Tarifas base'!C$12 -> 7337105.6 | H31: =+$E31*'Tarifas base'!D$12 -> 6159914.9 | I31: =+$E31*'Tarifas base'!E$12 -> 6213288.8
A32: 2027 | B32: 12 | C32: =_xlfn.CONCAT(A32,"-",B32) -> 2027-12 | D32: Local - Mayor a 1 Kg | E32: 692 | F32: =+$E32*'Tarifas base'!B$12 -> 11348800 | G32: =+$E32*'Tarifas base'!C$12 -> 8020974.8 | H32: =+$E32*'Tarifas base'!D$12 -> 6734061.8 | I32: =+$E32*'Tarifas base'!E$12 -> 6792410.5
A33: 2028 | B33: 1 | C33: =_xlfn.CONCAT(A33,"-",B33) -> 2028-1 | D33: Local - Mayor a 1 Kg | E33: 757 | F33: =+$E33*'Tarifas base'!B$19 -> 12414800 | G33: =+$E33*'Tarifas base'!C$19 -> 9210184.8 | H33: =+$E33*'Tarifas base'!D$19 -> 7732470.8 | I33: =+$E33*'Tarifas base'!E$19 -> 7868239
A34: 2028 | B34: 2 | C34: =_xlfn.CONCAT(A34,"-",B34) -> 2028-2 | D34: Local - Mayor a 1 Kg | E34: 828 | F34: =+$E34*'Tarifas base'!B$19 -> 13579200 | G34: =+$E34*'Tarifas base'!C$19 -> 10074020 | H34: =+$E34*'Tarifas base'!D$19 -> 8457709.1 | I34: =+$E34*'Tarifas base'!E$19 -> 8606211.3
A35: 2028 | B35: 3 | C35: =_xlfn.CONCAT(A35,"-",B35) -> 2028-3 | D35: Local - Mayor a 1 Kg | E35: 905 | F35: =+$E35*'Tarifas base'!B$19 -> 14842000 | G35: =+$E35*'Tarifas base'!C$19 -> 11010855 | H35: =+$E35*'Tarifas base'!D$19 -> 9244235.2 | I35: =+$E35*'Tarifas base'!E$19 -> 9406547.3
A36: 2027 | B36: 1 | C36: =_xlfn.CONCAT(A36,"-",B36) -> 2027-1 | D36: Nacional - Hasta 1 Kg | E36: 340197 | F36: =+$E36*'Tarifas base'!B$13 -> 8096688600 | G36: =+$E36*'Tarifas base'!C$13 -> 3.929522e+09 | H36: =+$E36*'Tarifas base'!D$13 -> 3.4309144e+09 | I36: =+$E36*'Tarifas base'!E$13 -> 3.4606423e+09
A37: 2027 | B37: 2 | C37: =_xlfn.CONCAT(A37,"-",B37) -> 2027-2 | D37: Nacional - Hasta 1 Kg | E37: 781404 | F37: =+$E37*'Tarifas base'!B$13 -> 18597415200 | G37: =+$E37*'Tarifas base'!C$13 -> 9.0257828e+09 | H37: =+$E37*'Tarifas base'!D$13 -> 7.8805228e+09 | I37: =+$E37*'Tarifas base'!E$13 -> 7.9488053e+09
A38: 2027 | B38: 3 | C38: =_xlfn.CONCAT(A38,"-",B38) -> 2027-3 | D38: Nacional - Hasta 1 Kg | E38: 301106 | F38: =+$E38*'Tarifas base'!B$13 -> 7166322800 | G38: =+$E38*'Tarifas base'!C$13 -> 3.4779926e+09 | H38: =+$E38*'Tarifas base'!D$13 -> 3.0366785e+09 | I38: =+$E38*'Tarifas base'!E$13 -> 3.0629904e+09
A39: 2027 | B39: 4 | C39: =_xlfn.CONCAT(A39,"-",B39) -> 2027-4 | D39: Nacional - Hasta 1 Kg | E39: 110231 | F39: =+$E39*'Tarifas base'!B$13 -> 2623497800 | G39: =+$E39*'Tarifas base'!C$13 -> 1.273248e+09 | H39: =+$E39*'Tarifas base'!D$13 -> 1.1116886e+09 | I39: =+$E39*'Tarifas base'!E$13 -> 1.1213211e+09
A40: 2027 | B40: 5 | C40: =_xlfn.CONCAT(A40,"-",B40) -> 2027-5 | D40: Nacional - Hasta 1 Kg | E40: 218089 | F40: =+$E40*'Tarifas base'!B$13 -> 5190518200 | G40: =+$E40*'Tarifas base'!C$13 -> 2.5190861e+09 | H40: =+$E40*'Tarifas base'!D$13 -> 2.1994453e+09 | I40: =+$E40*'Tarifas base'!E$13 -> 2.2185028e+09
A41: 2027 | B41: 6 | C41: =_xlfn.CONCAT(A41,"-",B41) -> 2027-6 | D41: Nacional - Hasta 1 Kg | E41: 381952 | F41: =+$E41*'Tarifas base'!B$13 -> 9090457600 | G41: =+$E41*'Tarifas base'!C$13 -> 4.4118226e+09 | H41: =+$E41*'Tarifas base'!D$13 -> 3.8520169e+09 | I41: =+$E41*'Tarifas base'!E$13 -> 3.8853936e+09
A42: 2027 | B42: 7 | C42: =_xlfn.CONCAT(A42,"-",B42) -> 2027-7 | D42: Nacional - Hasta 1 Kg | E42: 322070 | F42: =+$E42*'Tarifas base'!B$13 -> 7665266000 | G42: =+$E42*'Tarifas base'!C$13 -> 3.720142e+09 | H42: =+$E42*'Tarifas base'!D$13 -> 3.2481021e+09 | I42: =+$E42*'Tarifas base'!E$13 -> 3.276246e+09
A43: 2027 | B43: 8 | C43: =_xlfn.CONCAT(A43,"-",B43) -> 2027-8 | D43: Nacional - Hasta 1 Kg | E43: 174623 | F43: =+$E43*'Tarifas base'!B$13 -> 4156027400 | G43: =+$E43*'Tarifas base'!C$13 -> 2.0170223e+09 | H43: =+$E43*'Tarifas base'!D$13 -> 1.7610871e+09 | I43: =+$E43*'Tarifas base'!E$13 -> 1.7763465e+09
A44: 2027 | B44: 9 | C44: =_xlfn.CONCAT(A44,"-",B44) -> 2027-9 | D44: Nacional - Hasta 1 Kg | E44: 377504 | F44: =+$E44*'Tarifas base'!B$13 -> 8984595200 | G44: =+$E44*'Tarifas base'!C$13 -> 4.3604449e+09 | H44: =+$E44*'Tarifas base'!D$13 -> 3.8071585e+09 | I44: =+$E44*'Tarifas base'!E$13 -> 3.8401465e+09
A45: 2027 | B45: 10 | C45: =_xlfn.CONCAT(A45,"-",B45) -> 2027-10 | D45: Nacional - Hasta 1 Kg | E45: 312583 | F45: =+$E45*'Tarifas base'!B$13 -> 7439475400 | G45: =+$E45*'Tarifas base'!C$13 -> 3.6105603e+09 | H45: =+$E45*'Tarifas base'!D$13 -> 3.1524249e+09 | I45: =+$E45*'Tarifas base'!E$13 -> 3.1797398e+09
A46: 2027 | B46: 11 | C46: =_xlfn.CONCAT(A46,"-",B46) -> 2027-11 | D46: Nacional - Hasta 1 Kg | E46: 358886 | F46: =+$E46*'Tarifas base'!B$13 -> 8541486800 | G46: =+$E46*'Tarifas base'!C$13 -> 4.1453935e+09 | H46: =+$E46*'Tarifas base'!D$13 -> 3.6193945e+09 | I46: =+$E46*'Tarifas base'!E$13 -> 3.6507555e+09
A47: 2027 | B47: 12 | C47: =_xlfn.CONCAT(A47,"-",B47) -> 2027-12 | D47: Nacional - Hasta 1 Kg | E47: 418548 | F47: =+$E47*'Tarifas base'!B$13 -> 9961442400 | G47: =+$E47*'Tarifas base'!C$13 -> 4.8345329e+09 | H47: =+$E47*'Tarifas base'!D$13 -> 4.2210906e+09 | I47: =+$E47*'Tarifas base'!E$13 -> 4.2576651e+09
A48: 2028 | B48: 1 | C48: =_xlfn.CONCAT(A48,"-",B48) -> 2028-1 | D48: Nacional - Hasta 1 Kg | E48: 214641 | F48: =+$E48*'Tarifas base'!B$20 -> 5108455800 | G48: =+$E48*'Tarifas base'!C$20 -> 2.6023957e+09 | H48: =+$E48*'Tarifas base'!D$20 -> 2.272184e+09 | I48: =+$E48*'Tarifas base'!E$20 -> 2.3120794e+09
A49: 2028 | B49: 2 | C49: =_xlfn.CONCAT(A49,"-",B49) -> 2028-2 | D49: Nacional - Hasta 1 Kg | E49: 453083 | F49: =+$E49*'Tarifas base'!B$20 -> 10783375400 | G49: =+$E49*'Tarifas base'!C$20 -> 5.4933646e+09 | H49: =+$E49*'Tarifas base'!D$20 -> 4.7963247e+09 | I49: =+$E49*'Tarifas base'!E$20 -> 4.8805395e+09
A50: 2028 | B50: 3 | C50: =_xlfn.CONCAT(A50,"-",B50) -> 2028-3 | D50: Nacional - Hasta 1 Kg | E50: 239748 | F50: =+$E50*'Tarifas base'!B$20 -> 5706002400 | G50: =+$E50*'Tarifas base'!C$20 -> 2.9068033e+09 | H50: =+$E50*'Tarifas base'!D$20 -> 2.537966e+09 | I50: =+$E50*'Tarifas base'!E$20 -> 2.5825281e+09
A51: 2027 | B51: 1 | C51: =_xlfn.CONCAT(A51,"-",B51) -> 2027-1 | D51: Nacional - Mayor a 1 Kg | E51: 486 | F51: =+$E51*'Tarifas base'!B$14 -> 14385600 | G51: =+$E51*'Tarifas base'!C$14 -> 8432366.2 | H51: =+$E51*'Tarifas base'!D$14 -> 7786026.7 | I51: =+$E51*'Tarifas base'!E$14 -> 7853490.4
A52: 2027 | B52: 2 | C52: =_xlfn.CONCAT(A52,"-",B52) -> 2027-2 | D52: Nacional - Mayor a 1 Kg | E52: 659 | F52: =+$E52*'Tarifas base'!B$14 -> 19506400 | G52: =+$E52*'Tarifas base'!C$14 -> 11434011 | H52: =+$E52*'Tarifas base'!D$14 -> 10557596 | I52: =+$E52*'Tarifas base'!E$14 -> 10649074
A53: 2027 | B53: 3 | C53: =_xlfn.CONCAT(A53,"-",B53) -> 2027-3 | D53: Nacional - Mayor a 1 Kg | E53: 786 | F53: =+$E53*'Tarifas base'!B$14 -> 23265600 | G53: =+$E53*'Tarifas base'!C$14 -> 13637531 | H53: =+$E53*'Tarifas base'!D$14 -> 12592216 | I53: =+$E53*'Tarifas base'!E$14 -> 12701324
A54: 2027 | B54: 4 | C54: =_xlfn.CONCAT(A54,"-",B54) -> 2027-4 | D54: Nacional - Mayor a 1 Kg | E54: 817 | F54: =+$E54*'Tarifas base'!B$14 -> 24183200 | G54: =+$E54*'Tarifas base'!C$14 -> 14175397 | H54: =+$E54*'Tarifas base'!D$14 -> 13088856 | I54: =+$E54*'Tarifas base'!E$14 -> 13202267
A55: 2027 | B55: 5 | C55: =_xlfn.CONCAT(A55,"-",B55) -> 2027-5 | D55: Nacional - Mayor a 1 Kg | E55: 1090 | F55: =+$E55*'Tarifas base'!B$14 -> 32264000 | G55: =+$E55*'Tarifas base'!C$14 -> 18912097 | H55: =+$E55*'Tarifas base'!D$14 -> 17462488 | I55: =+$E55*'Tarifas base'!E$14 -> 17613795
A56: 2027 | B56: 6 | C56: =_xlfn.CONCAT(A56,"-",B56) -> 2027-6 | D56: Nacional - Mayor a 1 Kg | E56: 1029 | F56: =+$E56*'Tarifas base'!B$14 -> 30458400 | G56: =+$E56*'Tarifas base'!C$14 -> 17853714 | H56: =+$E56*'Tarifas base'!D$14 -> 16485229 | I56: =+$E56*'Tarifas base'!E$14 -> 16628069
A57: 2027 | B57: 7 | C57: =_xlfn.CONCAT(A57,"-",B57) -> 2027-7 | D57: Nacional - Mayor a 1 Kg | E57: 373 | F57: =+$E57*'Tarifas base'!B$14 -> 11040800 | G57: =+$E57*'Tarifas base'!C$14 -> 6471754.3 | H57: =+$E57*'Tarifas base'!D$14 -> 5975695.4 | I57: =+$E57*'Tarifas base'!E$14 -> 6027473.1
A58: 2027 | B58: 8 | C58: =_xlfn.CONCAT(A58,"-",B58) -> 2027-8 | D58: Nacional - Mayor a 1 Kg | E58: 393 | F58: =+$E58*'Tarifas base'!B$14 -> 11632800 | G58: =+$E58*'Tarifas base'!C$14 -> 6818765.3 | H58: =+$E58*'Tarifas base'!D$14 -> 6296108 | I58: =+$E58*'Tarifas base'!E$14 -> 6350662
A59: 2027 | B59: 9 | C59: =_xlfn.CONCAT(A59,"-",B59) -> 2027-9 | D59: Nacional - Mayor a 1 Kg | E59: 524 | F59: =+$E59*'Tarifas base'!B$14 -> 15510400 | G59: =+$E59*'Tarifas base'!C$14 -> 9091687 | H59: =+$E59*'Tarifas base'!D$14 -> 8394810.7 | I59: =+$E59*'Tarifas base'!E$14 -> 8467549.4
A60: 2027 | B60: 10 | C60: =_xlfn.CONCAT(A60,"-",B60) -> 2027-10 | D60: Nacional - Mayor a 1 Kg | E60: 1056 | F60: =+$E60*'Tarifas base'!B$14 -> 31257600 | G60: =+$E60*'Tarifas base'!C$14 -> 18322178 | H60: =+$E60*'Tarifas base'!D$14 -> 16917786 | I60: =+$E60*'Tarifas base'!E$14 -> 17064374
A61: 2027 | B61: 11 | C61: =_xlfn.CONCAT(A61,"-",B61) -> 2027-11 | D61: Nacional - Mayor a 1 Kg | E61: 568 | F61: =+$E61*'Tarifas base'!B$14 -> 16812800 | G61: =+$E61*'Tarifas base'!C$14 -> 9855111.1 | H61: =+$E61*'Tarifas base'!D$14 -> 9099718.5 | I61: =+$E61*'Tarifas base'!E$14 -> 9178565
A62: 2027 | B62: 12 | C62: =_xlfn.CONCAT(A62,"-",B62) -> 2027-12 | D62: Nacional - Mayor a 1 Kg | E62: 610 | F62: =+$E62*'Tarifas base'!B$14 -> 18056000 | G62: =+$E62*'Tarifas base'!C$14 -> 10583834 | H62: =+$E62*'Tarifas base'!D$14 -> 9772585 | I62: =+$E62*'Tarifas base'!E$14 -> 9857261.7
A63: 2028 | B63: 1 | C63: =_xlfn.CONCAT(A63,"-",B63) -> 2028-1 | D63: Nacional - Mayor a 1 Kg | E63: 570 | F63: =+$E63*'Tarifas base'!B$21 -> 16872000 | G63: =+$E63*'Tarifas base'!C$21 -> 10381006 | H63: =+$E63*'Tarifas base'!D$21 -> 9585303.8 | I63: =+$E63*'Tarifas base'!E$21 -> 9753604.5
A64: 2028 | B64: 2 | C64: =_xlfn.CONCAT(A64,"-",B64) -> 2028-2 | D64: Nacional - Mayor a 1 Kg | E64: 865 | F64: =+$E64*'Tarifas base'!B$21 -> 25604000 | G64: =+$E64*'Tarifas base'!C$21 -> 15753632 | H64: =+$E64*'Tarifas base'!D$21 -> 14546119 | I64: =+$E64*'Tarifas base'!E$21 -> 14801523
A65: 2028 | B65: 3 | C65: =_xlfn.CONCAT(A65,"-",B65) -> 2028-3 | D65: Nacional - Mayor a 1 Kg | E65: 1152 | F65: =+$E65*'Tarifas base'!B$21 -> 34099200 | G65: =+$E65*'Tarifas base'!C$21 -> 20980560 | H65: =+$E65*'Tarifas base'!D$21 -> 19372403 | I65: =+$E65*'Tarifas base'!E$21 -> 19712548
F66: =SUM(F6:F65) -> 226827073700 | G66: =SUM(G6:G65) -> 1.4344594e+11 | H66: =SUM(H6:H65) -> 1.2054446e+11 | I66: =SUM(I6:I65) -> 1.2180322e+11

Sheet CE
A1: Propuesta Regulatoria
A2: Propuesta regulatoria publicada en septiembre 2026 e insumos
A4: Alternativa | B4: Resultado efectividad | C4: Normalización efectividad | D4: Resultado valor monetario | E4: Normalización costos | F4: Costo/efectividad
A5: Statu quo: mantener las tarifas actuales del OPO | B5: 0.119 | C5: =B5/MAX($B$5:$B$8) -> 0.35416667 | D5: ='Alternativas regulatorias'!F66 -> 226827073700 | E5: =D5/MIN($D$5:$D$8) -> 1.8816881 | F5: =+E5/C5 -> 5.3130016
A6: Adoptar las tarifas del SPU con su esquema de actualización | B6: 0.276 | C6: =B6/MAX($B$5:$B$8) -> 0.82142857 | D6: =+'Alternativas regulatorias'!G66 -> 1.4344594e+11 | E6: =D6/MIN($D$5:$D$8) -> 1.1899837 | F6: =+E6/C6 -> 1.4486758
A7: Tarifa fija basada en el modelo eficiente + actualización por IPC | B7: 0.336 | C7: =B7/MAX($B$5:$B$8) -> 1 | D7: =+'Alternativas regulatorias'!H66 -> 1.2054446e+11 | E7: =D7/MIN($D$5:$D$8) -> 1 | F7: =+E7/C7 -> 1
A8: Tarifa fija basada en el modelo de empresa eficiente con actualización ponderada por IPC e ISS | B8: 0.269 | C8: =B8/MAX($B$5:$B$8) -> 0.80059524 | D8: =+'Alternativas regulatorias'!I66 -> 1.2180322e+11 | E8: =D8/MIN($D$5:$D$8) -> 1.0104423 | F8: =+E8/C8 -> 1.2621138

Sheet Tarifas base
A2: TARIFAS DE REFERENCIA 2026 | H2: IPC | I2: SMMLV
A3: GRUPO | B3: STATU QUO | C3: ALTERNATIVA 2 | D3: ALTERNATIVA 3 | E3: ALTERNATIVA 4 | G3: 2025 | H3: 152.27 | I3: -
A4: Local- Hasta 1 Kg | B4: 10750 | C4: 7881.51 | D4: 6444.1759 | E4: 6444.1759 | G4: 2026 | H4: 162.64339 | I4: 1750905
A5: Local- Mayor a 1 kg y hasta 2Kg | B5: 16400 | C5: 10851.73 | D5: 9110.6408 | E5: 9110.6408 | G5: 2027 | H5: 170.72135 | I5: 1924200.8
A6: Nacional- Hasta 1 Kg | B6: 23800 | C6: 10814.02 | D6: 9441.8549 | E6: 9441.8549 | G6: 2028 | H6: - | I6: 2079131.1
A7: Nacional- Mayor a 1 kg y hasta 2Kg | B7: 29600 | C7: 16243.93 | D7: 14998.835 | E7: 14998.835
A9: TARIFAS 2027
A10: GRUPO | B10: STATU QUO | C10: ALTERNATIVA 2 | D10: ALTERNATIVA 3 | E10: ALTERNATIVA 4 | H10: IPC | I10: ISS | J10: Alt 4
A11: Local- Hasta 1 Kg | B11: 10750 | C11: =+C4*$H$11 -> 8418.4379 | D11: =+D4*$H$11 -> 6883.1854 | E11: =+E4*$J$11 -> 6942.8262 | G11: 2027 | H11: =(H4/H3) -> 1.068125 | I11: =+I5/I4 -> 1.098975 | J11: =(H11*H13)+(I11*I13) -> 1.07738
A12: Local- Mayor a 1 kg y hasta 2Kg | B12: 16400 | C12: =+C5*$H$11 -> 11591.004 | D12: =+D5*$H$11 -> 9731.3032 | E12: =+E5*$J$11 -> 9815.6221 | G12: 2028 | H12: =+H5/H4 -> 1.0496667 | I12: =+I6/I5 -> 1.0805167 | J12: =(H12*H13)+(I12*I13) -> 1.0589217
A13: Nacional- Hasta 1 Kg | B13: 23800 | C13: =+C6*$H$11 -> 11550.725 | D13: =+D6*$H$11 -> 10085.081 | E13: =+E6*$J$11 -> 10172.466 | G13: FACTOR (Alt 4) | H13: 0.7 | I13: 0.3 | J13: -
A14: Nacional- Mayor a 1 kg y hasta 2Kg | B14: 29600 | C14: =+C7*$H$11 -> 17350.548 | D14: =+D7*$H$11 -> 16020.631 | E14: =+E7*$J$11 -> 16159.445
A16: TARIFAS 2028
A17: GRUPO | B17: STATU QUO | C17: ALTERNATIVA 2 | D17: ALTERNATIVA 3 | E17: ALTERNATIVA 4
A18: Local- Hasta 1 Kg | B18: 10750 | C18: =+C11*$H$12 -> 8836.5536 | D18: =+D11*$H$12 -> 7225.0503 | E18: =+E11*$J$12 -> 7351.9091
A19: Local- Mayor a 1 kg y hasta 2Kg | B19: 16400 | C19: =+C12*$H$12 -> 12166.691 | D19: =+D12*$H$12 -> 10214.625 | E19: =+E12*$J$12 -> 10393.975
A20: Nacional- Hasta 1 Kg | B20: 23800 | C20: =+C13*$H$12 -> 12124.411 | D20: =+D13*$H$12 -> 10585.974 | E20: =+E13*$J$12 -> 10771.844
A21: Nacional- Mayor a 1 kg y hasta 2Kg | B21: 29600 | C21: =+C14*$H$12 -> 18212.292 | D21: =+D14*$H$12 -> 16816.322 | E21: =+E14*$J$12 -> 17111.587
